BEGIN:VCALENDAR
VERSION:2.0
PRODID:-//sebbo.net//ical-generator//EN
BEGIN:VEVENT
UID:7d7ff8e6-9e89-46bb-9274-c74792cc820d
SEQUENCE:0
DTSTAMP:20260423T152928Z
DTSTART:20260815T170000Z
DTEND:20260815T200000Z
SUMMARY:DILLA x Fenster zum Hof-Open Air 2026 - Mainz - Landesmuseum Mainz
LOCATION:Landesmuseum Mainz\, Große Bleiche 49-51\, 55116 Mainz\, Deutsch
 land
DESCRIPTION:Einlass: 19:00 Uhr\, Beginn: 19:30
END:VEVENT
END:VCALENDAR